
BEGIN:VCALENDAR
VERSION:2.0
PRODID:-//Etkinlikvarmi//Takvime Ekle//TR
BEGIN:VEVENT
UID:69e4c0d6d05db@etkinlikvarmi.com
DTSTAMP:20260419T114734Z
DTSTART:20260424T200000
DTEND:20260424T220000
SUMMARY:O.M.G
LOCATION:İstinyeArt Performans Arena, İzmir
DESCRIPTION:O.M.G etkinliği İzmir şehrinde İstinyeArt Performans Arena mekanında.
END:VEVENT
END:VCALENDAR
