
BEGIN:VCALENDAR
VERSION:2.0
PRODID:-//Etkinlikvarmi//Takvime Ekle//TR
BEGIN:VEVENT
UID:69e5016015662@etkinlikvarmi.com
DTSTAMP:20260419T162256Z
DTSTART:20260422T203000
DTEND:20260422T223000
SUMMARY:Sürüklenmiş
LOCATION:Bostanlı Suat Taşer Tiy., İzmir
DESCRIPTION:Sürüklenmiş etkinliği İzmir şehrinde Bostanlı Suat Taşer Tiy. mekanında.
END:VEVENT
END:VCALENDAR
