
BEGIN:VCALENDAR
VERSION:2.0
PRODID:-//Etkinlikvarmi//Takvime Ekle//TR
BEGIN:VEVENT
UID:69e9ed98f1b7a@etkinlikvarmi.com
DTSTAMP:20260423T095952Z
DTSTART:20260503T203000
DTEND:20260503T223000
SUMMARY:Şarkılar Eskiden Daha Mı Güzeldi - Suat Suna
LOCATION:BAOB Sahne, Bursa
DESCRIPTION:Şarkılar Eskiden Daha Mı Güzeldi - Suat Suna etkinliği Bursa şehrinde BAOB Sahne mekanında.
END:VEVENT
END:VCALENDAR
