
BEGIN:VCALENDAR
VERSION:2.0
PRODID:-//Etkinlikvarmi//Takvime Ekle//TR
BEGIN:VEVENT
UID:69e4db26818cb@etkinlikvarmi.com
DTSTAMP:20260419T133950Z
DTSTART:20260421T213000
DTEND:20260421T233000
SUMMARY:Didem Özek
LOCATION:Blind İstanbul, İstanbul
DESCRIPTION:Didem Özek etkinliği İstanbul şehrinde Blind İstanbul mekanında.
END:VEVENT
END:VCALENDAR
