
BEGIN:VCALENDAR
VERSION:2.0
PRODID:-//Etkinlikvarmi//Takvime Ekle//TR
BEGIN:VEVENT
UID:69e4d6dccf295@etkinlikvarmi.com
DTSTAMP:20260419T132132Z
DTSTART:20260427T200000
DTEND:20260427T220000
SUMMARY:Hamlet
LOCATION:Ankara Yeni Sahne, Ankara
DESCRIPTION:Hamlet etkinliği Ankara şehrinde Ankara Yeni Sahne mekanında.
END:VEVENT
END:VCALENDAR
