
BEGIN:VCALENDAR
VERSION:2.0
PRODID:-//Etkinlikvarmi//Takvime Ekle//TR
BEGIN:VEVENT
UID:69e4d6a95bb34@etkinlikvarmi.com
DTSTAMP:20260419T132041Z
DTSTART:20260429T180000
DTEND:20260429T200000
SUMMARY:Yaramazlar Sirki Kampta
LOCATION:Nazilli Kültür Merkezi, Aydın
DESCRIPTION:Yaramazlar Sirki Kampta etkinliği Aydın şehrinde Nazilli Kültür Merkezi mekanında.
END:VEVENT
END:VCALENDAR
