
BEGIN:VCALENDAR
VERSION:2.0
PRODID:-//Etkinlikvarmi//Takvime Ekle//TR
BEGIN:VEVENT
UID:69e4db6825c7e@etkinlikvarmi.com
DTSTAMP:20260419T134056Z
DTSTART:20260426T130000
DTEND:20260426T150000
SUMMARY:Güldüy Güldüy Çocuk
LOCATION:Maximum UNIQ Hall, İstanbul
DESCRIPTION:Güldüy Güldüy Çocuk etkinliği İstanbul şehrinde Maximum UNIQ Hall mekanında.
END:VEVENT
END:VCALENDAR
