
BEGIN:VCALENDAR
VERSION:2.0
PRODID:-//Etkinlikvarmi//Takvime Ekle//TR
BEGIN:VEVENT
UID:69e5014261adf@etkinlikvarmi.com
DTSTAMP:20260419T162226Z
DTSTART:20260506T220000
DTEND:20260507T000000
SUMMARY:Ari Barokas
LOCATION:F Stop Salon, Eskişehir
DESCRIPTION:Ari Barokas etkinliği Eskişehir şehrinde F Stop Salon mekanında.
END:VEVENT
END:VCALENDAR
