
BEGIN:VCALENDAR
VERSION:2.0
PRODID:-//Etkinlikvarmi//Takvime Ekle//TR
BEGIN:VEVENT
UID:69e506250c44f@etkinlikvarmi.com
DTSTAMP:20260419T164317Z
DTSTART:20260506T210000
DTEND:20260506T230000
SUMMARY:Hayko Cepkin : Electric
LOCATION:CerModern, Ankara
DESCRIPTION:Hayko Cepkin : Electric etkinliği Ankara şehrinde CerModern mekanında.
END:VEVENT
END:VCALENDAR
