
BEGIN:VCALENDAR
VERSION:2.0
PRODID:-//Etkinlikvarmi//Takvime Ekle//TR
BEGIN:VEVENT
UID:69e4d8f3362cb@etkinlikvarmi.com
DTSTAMP:20260419T133027Z
DTSTART:20260502T130000
DTEND:20260502T150000
SUMMARY:Kuromi Ve Dostları
LOCATION:Üsküdar Sahne Hane, İstanbul
DESCRIPTION:Kuromi Ve Dostları etkinliği İstanbul şehrinde Üsküdar Sahne Hane mekanında.
END:VEVENT
END:VCALENDAR
