
BEGIN:VCALENDAR
VERSION:2.0
PRODID:-//Etkinlikvarmi//Takvime Ekle//TR
BEGIN:VEVENT
UID:69e4d6687a9a8@etkinlikvarmi.com
DTSTAMP:20260419T131936Z
DTSTART:20260421T203000
DTEND:20260421T223000
SUMMARY:No:304
LOCATION:HOP Sahne - Bakırköy, İstanbul
DESCRIPTION:No:304 etkinliği İstanbul şehrinde HOP Sahne - Bakırköy mekanında.
END:VEVENT
END:VCALENDAR
