
BEGIN:VCALENDAR
VERSION:2.0
PRODID:-//Etkinlikvarmi//Takvime Ekle//TR
BEGIN:VEVENT
UID:69e4d6687ad31@etkinlikvarmi.com
DTSTAMP:20260419T131936Z
DTSTART:20260420T203000
DTEND:20260420T223000
SUMMARY:No:304
LOCATION:Bodrum Herodot Kültür Merkezi, Muğla
DESCRIPTION:No:304 etkinliği Muğla şehrinde Bodrum Herodot Kültür Merkezi mekanında.
END:VEVENT
END:VCALENDAR
