
BEGIN:VCALENDAR
VERSION:2.0
PRODID:-//Etkinlikvarmi//Takvime Ekle//TR
BEGIN:VEVENT
UID:69e4d6a9d919a@etkinlikvarmi.com
DTSTAMP:20260419T132041Z
DTSTART:20260430T203000
DTEND:20260430T223000
SUMMARY:No:304
LOCATION:Hasan Can Kültür Merkezi, Balıkesir
DESCRIPTION:No:304 etkinliği Balıkesir şehrinde Hasan Can Kültür Merkezi mekanında.
END:VEVENT
END:VCALENDAR
