
BEGIN:VCALENDAR
VERSION:2.0
PRODID:-//Etkinlikvarmi//Takvime Ekle//TR
BEGIN:VEVENT
UID:69e4d8c0e1501@etkinlikvarmi.com
DTSTAMP:20260419T132936Z
DTSTART:20260503T140000
DTEND:20260503T160000
SUMMARY:Kuromi Ve Dostları
LOCATION:Alternaif Tiyatro, Kocaeli
DESCRIPTION:Kuromi Ve Dostları etkinliği Kocaeli şehrinde Alternaif Tiyatro mekanında.
END:VEVENT
END:VCALENDAR
