
BEGIN:VCALENDAR
VERSION:2.0
PRODID:-//Etkinlikvarmi//Takvime Ekle//TR
BEGIN:VEVENT
UID:69e9ecf0093a0@etkinlikvarmi.com
DTSTAMP:20260423T095704Z
DTSTART:20260509T200000
DTEND:20260509T220000
SUMMARY:Burda Olan Burda Kalır - Can Yılmaz &amp; Zafer Algöz
LOCATION:Şahinbey Kongre ve Sanat Merkezi, Gaziantep
DESCRIPTION:Burda Olan Burda Kalır - Can Yılmaz &amp; Zafer Algöz etkinliği Gaziantep şehrinde Şahinbey Kongre ve Sanat Merkezi mekanında.
END:VEVENT
END:VCALENDAR
