
BEGIN:VCALENDAR
VERSION:2.0
PRODID:-//Etkinlikvarmi//Takvime Ekle//TR
BEGIN:VEVENT
UID:69e4d8c0e1502@etkinlikvarmi.com
DTSTAMP:20260419T132936Z
DTSTART:20260509T130000
DTEND:20260509T150000
SUMMARY:Kuromi Ve Dostları
LOCATION:Kafa Sahne, Bursa
DESCRIPTION:Kuromi Ve Dostları etkinliği Bursa şehrinde Kafa Sahne mekanında.
END:VEVENT
END:VCALENDAR
