
BEGIN:VCALENDAR
VERSION:2.0
PRODID:-//Etkinlikvarmi//Takvime Ekle//TR
BEGIN:VEVENT
UID:69e4c4d111f6c@etkinlikvarmi.com
DTSTAMP:20260419T120433Z
DTSTART:20260509T130000
DTEND:20260509T150000
SUMMARY:Ceviz Adam Müzikali
LOCATION:Actor Studio Arcadium AVM, Ankara
DESCRIPTION:Ceviz Adam Müzikali etkinliği Ankara şehrinde Actor Studio Arcadium AVM mekanında.
END:VEVENT
END:VCALENDAR
