
BEGIN:VCALENDAR
VERSION:2.0
PRODID:-//Etkinlikvarmi//Takvime Ekle//TR
BEGIN:VEVENT
UID:69e9eff9b1583@etkinlikvarmi.com
DTSTAMP:20260423T101001Z
DTSTART:20260508T210000
DTEND:20260508T230000
SUMMARY:Linet
LOCATION:Jolly Joker Gaziantep, Gaziantep
DESCRIPTION:Linet etkinliği Gaziantep şehrinde Jolly Joker Gaziantep mekanında.
END:VEVENT
END:VCALENDAR
