
BEGIN:VCALENDAR
VERSION:2.0
PRODID:-//Etkinlikvarmi//Takvime Ekle//TR
BEGIN:VEVENT
UID:69e4c47dac5df@etkinlikvarmi.com
DTSTAMP:20260419T120309Z
DTSTART:20260510T140000
DTEND:20260510T160000
SUMMARY:Ceviz Adam Müzikali
LOCATION:Ve Sahne Panora &amp; Kulis Sanat, Ankara
DESCRIPTION:Ceviz Adam Müzikali etkinliği Ankara şehrinde Ve Sahne Panora &amp; Kulis Sanat mekanında.
END:VEVENT
END:VCALENDAR
