
BEGIN:VCALENDAR
VERSION:2.0
PRODID:-//Etkinlikvarmi//Takvime Ekle//TR
BEGIN:VEVENT
UID:69e4d8bb420ad@etkinlikvarmi.com
DTSTAMP:20260419T132931Z
DTSTART:20260510T130000
DTEND:20260510T150000
SUMMARY:Kuromi Ve Dostları
LOCATION:Kale Sahne, Sakarya
DESCRIPTION:Kuromi Ve Dostları etkinliği Sakarya şehrinde Kale Sahne mekanında.
END:VEVENT
END:VCALENDAR
