
BEGIN:VCALENDAR
VERSION:2.0
PRODID:-//Etkinlikvarmi//Takvime Ekle//TR
BEGIN:VEVENT
UID:69e9ef5ba6a6e@etkinlikvarmi.com
DTSTAMP:20260423T100723Z
DTSTART:20260509T210000
DTEND:20260509T230000
SUMMARY:Linet
LOCATION:Jolly Joker Mersin, Mersin
DESCRIPTION:Linet etkinliği Mersin şehrinde Jolly Joker Mersin mekanında.
END:VEVENT
END:VCALENDAR
