
BEGIN:VCALENDAR
VERSION:2.0
PRODID:-//Etkinlikvarmi//Takvime Ekle//TR
BEGIN:VEVENT
UID:69e50078e1c55@etkinlikvarmi.com
DTSTAMP:20260419T161904Z
DTSTART:20260509T203000
DTEND:20260509T223000
SUMMARY:Sürüklenmiş
LOCATION:Atatürk Sanat Merkezi, Ankara
DESCRIPTION:Sürüklenmiş etkinliği Ankara şehrinde Atatürk Sanat Merkezi mekanında.
END:VEVENT
END:VCALENDAR
