
BEGIN:VCALENDAR
VERSION:2.0
PRODID:-//Etkinlikvarmi//Takvime Ekle//TR
BEGIN:VEVENT
UID:69e9ec9b66dad@etkinlikvarmi.com
DTSTAMP:20260423T095539Z
DTSTART:20260509T203000
DTEND:20260509T223000
SUMMARY:Şarkılar Eskiden Daha Mı Güzeldi - Suat Suna
LOCATION:Bodrum Herodot Kültür Merkezi, Muğla
DESCRIPTION:Şarkılar Eskiden Daha Mı Güzeldi - Suat Suna etkinliği Muğla şehrinde Bodrum Herodot Kültür Merkezi mekanında.
END:VEVENT
END:VCALENDAR
