
BEGIN:VCALENDAR
VERSION:2.0
PRODID:-//Etkinlikvarmi//Takvime Ekle//TR
BEGIN:VEVENT
UID:69e89d73ac05c@etkinlikvarmi.com
DTSTAMP:20260422T100539Z
DTSTART:20260426T200000
DTEND:20260426T220000
SUMMARY:Kahvede Şenlik var
LOCATION:Akif Gülle Kültür Merkezi, Amasya
DESCRIPTION:Kahvede Şenlik var etkinliği Amasya şehrinde Akif Gülle Kültür Merkezi mekanında.
END:VEVENT
END:VCALENDAR
