
BEGIN:VCALENDAR
VERSION:2.0
PRODID:-//Etkinlikvarmi//Takvime Ekle//TR
BEGIN:VEVENT
UID:69e50078e2a0a@etkinlikvarmi.com
DTSTAMP:20260419T161904Z
DTSTART:20260510T220000
DTEND:20260511T000000
SUMMARY:Ari Barokas
LOCATION:6:45 KK Ankara, Ankara
DESCRIPTION:Ari Barokas etkinliği Ankara şehrinde 6:45 KK Ankara mekanında.
END:VEVENT
END:VCALENDAR
