
BEGIN:VCALENDAR
VERSION:2.0
PRODID:-//Etkinlikvarmi//Takvime Ekle//TR
BEGIN:VEVENT
UID:69e4c4d110381@etkinlikvarmi.com
DTSTAMP:20260419T120433Z
DTSTART:20260427T203000
DTEND:20260427T223000
SUMMARY:Tartuffe
LOCATION:Sefaköy Kültür Sanat Merkezi, İstanbul
DESCRIPTION:Tartuffe etkinliği İstanbul şehrinde Sefaköy Kültür Sanat Merkezi mekanında.
END:VEVENT
END:VCALENDAR
