
BEGIN:VCALENDAR
VERSION:2.0
PRODID:-//Etkinlikvarmi//Takvime Ekle//TR
BEGIN:VEVENT
UID:69e4c4d1105b0@etkinlikvarmi.com
DTSTAMP:20260419T120433Z
DTSTART:20260424T190000
DTEND:20260424T210000
SUMMARY:Küçük Kadınlar
LOCATION:Kartal Ada Sanat Tiyatrosu, İstanbul
DESCRIPTION:Küçük Kadınlar etkinliği İstanbul şehrinde Kartal Ada Sanat Tiyatrosu mekanında.
END:VEVENT
END:VCALENDAR
