
BEGIN:VCALENDAR
VERSION:2.0
PRODID:-//Etkinlikvarmi//Takvime Ekle//TR
BEGIN:VEVENT
UID:69e9ee49ef4b7@etkinlikvarmi.com
DTSTAMP:20260423T100249Z
DTSTART:20260425T140000
DTEND:20260425T160000
SUMMARY:Kaptan Dedenin Akılalmaz Maceraları: Cesur Kız
LOCATION:Edirne Halk Eğitim Merkezi, Edirne
DESCRIPTION:Kaptan Dedenin Akılalmaz Maceraları: Cesur Kız etkinliği Edirne şehrinde Edirne Halk Eğitim Merkezi mekanında.
END:VEVENT
END:VCALENDAR
