
BEGIN:VCALENDAR
VERSION:2.0
PRODID:-//Etkinlikvarmi//Takvime Ekle//TR
BEGIN:VEVENT
UID:69e4daf7f27ef@etkinlikvarmi.com
DTSTAMP:20260419T133903Z
DTSTART:20260423T213000
DTEND:20260423T233000
SUMMARY:Çağrı Sinci
LOCATION:RedFlag, Mersin
DESCRIPTION:Çağrı Sinci etkinliği Mersin şehrinde RedFlag mekanında.
END:VEVENT
END:VCALENDAR
