
BEGIN:VCALENDAR
VERSION:2.0
PRODID:-//Etkinlikvarmi//Takvime Ekle//TR
BEGIN:VEVENT
UID:69e4daba85ce7@etkinlikvarmi.com
DTSTAMP:20260419T133802Z
DTSTART:20260422T213000
DTEND:20260422T233000
SUMMARY:Çağrı Sinci
LOCATION:Holly Stone Performance, Adana
DESCRIPTION:Çağrı Sinci etkinliği Adana şehrinde Holly Stone Performance mekanında.
END:VEVENT
END:VCALENDAR
