
BEGIN:VCALENDAR
VERSION:2.0
PRODID:-//Etkinlikvarmi//Takvime Ekle//TR
BEGIN:VEVENT
UID:69e4daba84d49@etkinlikvarmi.com
DTSTAMP:20260419T133802Z
DTSTART:20260506T213000
DTEND:20260506T233000
SUMMARY:Çağrı Sinci
LOCATION:Holly Stone Isparta, Isparta
DESCRIPTION:Çağrı Sinci etkinliği Isparta şehrinde Holly Stone Isparta mekanında.
END:VEVENT
END:VCALENDAR
