
BEGIN:VCALENDAR
VERSION:2.0
PRODID:-//Etkinlikvarmi//Takvime Ekle//TR
BEGIN:VEVENT
UID:69e4c4b2b9635@etkinlikvarmi.com
DTSTAMP:20260419T120402Z
DTSTART:20260422T193000
DTEND:20260422T213000
SUMMARY:Küçük Kadınlar
LOCATION:Aydem Sahne, İstanbul
DESCRIPTION:Küçük Kadınlar etkinliği İstanbul şehrinde Aydem Sahne mekanında.
END:VEVENT
END:VCALENDAR
