
BEGIN:VCALENDAR
VERSION:2.0
PRODID:-//Etkinlikvarmi//Takvime Ekle//TR
BEGIN:VEVENT
UID:69e4c4b2f20e8@etkinlikvarmi.com
DTSTAMP:20260419T120402Z
DTSTART:20260425T180000
DTEND:20260425T200000
SUMMARY:Küçük Kadınlar
LOCATION:Rampa Sahne, Eskişehir
DESCRIPTION:Küçük Kadınlar etkinliği Eskişehir şehrinde Rampa Sahne mekanında.
END:VEVENT
END:VCALENDAR
