
BEGIN:VCALENDAR
VERSION:2.0
PRODID:-//Etkinlikvarmi//Takvime Ekle//TR
BEGIN:VEVENT
UID:69e4c4b2c43e4@etkinlikvarmi.com
DTSTAMP:20260419T120402Z
DTSTART:20260419T170000
DTEND:20260419T190000
SUMMARY:Küçük Kadınlar
LOCATION:Selda Bağcan Butik Sahne, Antalya
DESCRIPTION:Küçük Kadınlar etkinliği Antalya şehrinde Selda Bağcan Butik Sahne mekanında.
END:VEVENT
END:VCALENDAR
