
BEGIN:VCALENDAR
VERSION:2.0
PRODID:-//Etkinlikvarmi//Takvime Ekle//TR
BEGIN:VEVENT
UID:69e4c47dacbea@etkinlikvarmi.com
DTSTAMP:20260419T120309Z
DTSTART:20260419T203000
DTEND:20260419T223000
SUMMARY:Raporlu Çatlak
LOCATION:Cafe Theatre Koşuyolu, İstanbul
DESCRIPTION:Raporlu Çatlak etkinliği İstanbul şehrinde Cafe Theatre Koşuyolu mekanında.
END:VEVENT
END:VCALENDAR
