
BEGIN:VCALENDAR
VERSION:2.0
PRODID:-//Etkinlikvarmi//Takvime Ekle//TR
BEGIN:VEVENT
UID:69e4d93b45405@etkinlikvarmi.com
DTSTAMP:20260419T133139Z
DTSTART:20260425T130000
DTEND:20260425T150000
SUMMARY:Nazik Korsan Piyu
LOCATION:Paribu Art, İstanbul
DESCRIPTION:Nazik Korsan Piyu etkinliği İstanbul şehrinde Paribu Art mekanında.
END:VEVENT
END:VCALENDAR
