
BEGIN:VCALENDAR
VERSION:2.0
PRODID:-//Etkinlikvarmi//Takvime Ekle//TR
BEGIN:VEVENT
UID:69e4d90705242@etkinlikvarmi.com
DTSTAMP:20260419T133047Z
DTSTART:20260425T130000
DTEND:20260425T150000
SUMMARY:Stitch ve Lilo
LOCATION:Actor Studio Panora AVM, Ankara
DESCRIPTION:Stitch ve Lilo etkinliği Ankara şehrinde Actor Studio Panora AVM mekanında.
END:VEVENT
END:VCALENDAR
