
BEGIN:VCALENDAR
VERSION:2.0
PRODID:-//Etkinlikvarmi//Takvime Ekle//TR
BEGIN:VEVENT
UID:69e4c47dac222@etkinlikvarmi.com
DTSTAMP:20260419T120309Z
DTSTART:20260419T200000
DTEND:20260419T220000
SUMMARY:Tartuffe
LOCATION:Urla Belediyesi Atatürk Kültür, İzmir
DESCRIPTION:Tartuffe etkinliği İzmir şehrinde Urla Belediyesi Atatürk Kültür mekanında.
END:VEVENT
END:VCALENDAR
