
BEGIN:VCALENDAR
VERSION:2.0
PRODID:-//Etkinlikvarmi//Takvime Ekle//TR
BEGIN:VEVENT
UID:69e9ed7d18d34@etkinlikvarmi.com
DTSTAMP:20260423T095925Z
DTSTART:20260502T203000
DTEND:20260502T223000
SUMMARY:Şarkılar Eskiden Daha Mı Güzeldi - Suat Suna
LOCATION:Trump Sahne, İstanbul
DESCRIPTION:Şarkılar Eskiden Daha Mı Güzeldi - Suat Suna etkinliği İstanbul şehrinde Trump Sahne mekanında.
END:VEVENT
END:VCALENDAR
