
BEGIN:VCALENDAR
VERSION:2.0
PRODID:-//Etkinlikvarmi//Takvime Ekle//TR
BEGIN:VEVENT
UID:69e4c4b2dc076@etkinlikvarmi.com
DTSTAMP:20260419T120402Z
DTSTART:20260419T203000
DTEND:20260419T223000
SUMMARY:Açık Mikrofon Stand Up Gecesi
LOCATION:Efsahne Beyoğlu, İstanbul
DESCRIPTION:Açık Mikrofon Stand Up Gecesi etkinliği İstanbul şehrinde Efsahne Beyoğlu mekanında.
END:VEVENT
END:VCALENDAR
