
BEGIN:VCALENDAR
VERSION:2.0
PRODID:-//Etkinlikvarmi//Takvime Ekle//TR
BEGIN:VEVENT
UID:69e5010b62199@etkinlikvarmi.com
DTSTAMP:20260419T162131Z
DTSTART:20260425T223000
DTEND:20260426T003000
SUMMARY:Ercan Saatçi
LOCATION:Moda Kayıkhane, İstanbul
DESCRIPTION:Ercan Saatçi etkinliği İstanbul şehrinde Moda Kayıkhane mekanında.
END:VEVENT
END:VCALENDAR
