
BEGIN:VCALENDAR
VERSION:2.0
PRODID:-//Etkinlikvarmi//Takvime Ekle//TR
BEGIN:VEVENT
UID:69e4db265efb7@etkinlikvarmi.com
DTSTAMP:20260419T133950Z
DTSTART:20260419T210000
DTEND:20260419T230000
SUMMARY:Gabbro Caz Covers
LOCATION:Swissotel The Bosphorus, İstanbul
DESCRIPTION:Gabbro Caz Covers etkinliği İstanbul şehrinde Swissotel The Bosphorus mekanında.
END:VEVENT
END:VCALENDAR
