
BEGIN:VCALENDAR
VERSION:2.0
PRODID:-//Etkinlikvarmi//Takvime Ekle//TR
BEGIN:VEVENT
UID:69e4db682803c@etkinlikvarmi.com
DTSTAMP:20260419T134056Z
DTSTART:20260423T080000
DTEND:20260423T100000
SUMMARY:Midterm Camp Fest - Karavan Kamplı
LOCATION:Life Park, İstanbul
DESCRIPTION:Midterm Camp Fest - Karavan Kamplı etkinliği İstanbul şehrinde Life Park mekanında.
END:VEVENT
END:VCALENDAR
