
BEGIN:VCALENDAR
VERSION:2.0
PRODID:-//Etkinlikvarmi//Takvime Ekle//TR
BEGIN:VEVENT
UID:69e4db74f01a6@etkinlikvarmi.com
DTSTAMP:20260419T134108Z
DTSTART:20260422T203000
DTEND:20260422T223000
SUMMARY:No Land
LOCATION:Podyum Sanat Mahal, Bursa
DESCRIPTION:No Land etkinliği Bursa şehrinde Podyum Sanat Mahal mekanında.
END:VEVENT
END:VCALENDAR
