
BEGIN:VCALENDAR
VERSION:2.0
PRODID:-//Etkinlikvarmi//Takvime Ekle//TR
BEGIN:VEVENT
UID:69e4daf7f33b5@etkinlikvarmi.com
DTSTAMP:20260419T133903Z
DTSTART:20260510T140000
DTEND:20260510T160000
SUMMARY:Sihirli Kütüphane
LOCATION:Yenimahalle Nazım Hikmet KM, Ankara
DESCRIPTION:Sihirli Kütüphane etkinliği Ankara şehrinde Yenimahalle Nazım Hikmet KM mekanında.
END:VEVENT
END:VCALENDAR
