
BEGIN:VCALENDAR
VERSION:2.0
PRODID:-//Etkinlikvarmi//Takvime Ekle//TR
BEGIN:VEVENT
UID:69e4db265f3a2@etkinlikvarmi.com
DTSTAMP:20260419T133950Z
DTSTART:20260421T200000
DTEND:20260421T220000
SUMMARY:EREN DÜZENLİ PİYANO RESİTALİ
LOCATION:Ahmed Adnan Saygun Sanat Merkezi, İzmir
DESCRIPTION:EREN DÜZENLİ PİYANO RESİTALİ etkinliği İzmir şehrinde Ahmed Adnan Saygun Sanat Merkezi mekanında.
END:VEVENT
END:VCALENDAR
