
BEGIN:VCALENDAR
VERSION:2.0
PRODID:-//Etkinlikvarmi//Takvime Ekle//TR
BEGIN:VEVENT
UID:69e505b1dff3d@etkinlikvarmi.com
DTSTAMP:20260419T164121Z
DTSTART:20260502T223000
DTEND:20260503T003000
SUMMARY:Şimdi 90'lar - Eda Özülkü - Sibel Alaş - Jale - Metin Özülkü - Erdal Çelik
LOCATION:Moda Kayıkhane, İstanbul
DESCRIPTION:Şimdi 90'lar - Eda Özülkü - Sibel Alaş - Jale - Metin Özülkü - Erdal Çelik etkinliği İstanbul şehrinde Moda Kayıkhane mekanında.
END:VEVENT
END:VCALENDAR
