
BEGIN:VCALENDAR
VERSION:2.0
PRODID:-//Etkinlikvarmi//Takvime Ekle//TR
BEGIN:VEVENT
UID:69e4d6dcd0326@etkinlikvarmi.com
DTSTAMP:20260419T132132Z
DTSTART:20260509T200000
DTEND:20260509T220000
SUMMARY:Hamlet
LOCATION:Uşak Atatürk Kültür Merkezi, Uşak
DESCRIPTION:Hamlet etkinliği Uşak şehrinde Uşak Atatürk Kültür Merkezi mekanında.
END:VEVENT
END:VCALENDAR
