
BEGIN:VCALENDAR
VERSION:2.0
PRODID:-//Etkinlikvarmi//Takvime Ekle//TR
BEGIN:VEVENT
UID:69e4d8f2e7415@etkinlikvarmi.com
DTSTAMP:20260419T133026Z
DTSTART:20260423T160000
DTEND:20260423T180000
SUMMARY:Hacivat Karagöz Uzay Boşluğunda
LOCATION:Actor Studio Panora AVM, Ankara
DESCRIPTION:Hacivat Karagöz Uzay Boşluğunda etkinliği Ankara şehrinde Actor Studio Panora AVM mekanında.
END:VEVENT
END:VCALENDAR
