
BEGIN:VCALENDAR
VERSION:2.0
PRODID:-//Etkinlikvarmi//Takvime Ekle//TR
BEGIN:VEVENT
UID:69e4d6a95bb33@etkinlikvarmi.com
DTSTAMP:20260419T132041Z
DTSTART:20260425T200000
DTEND:20260425T220000
SUMMARY:Hamlet
LOCATION:Adıyaman TPAO Kültür Merkezi, Adıyaman
DESCRIPTION:Hamlet etkinliği Adıyaman şehrinde Adıyaman TPAO Kültür Merkezi mekanında.
END:VEVENT
END:VCALENDAR
